BEGIN:VCALENDAR
VERSION:2.0
PRODID:-//cvworkforce.org//NONSGML kigkonsult.se iCalcreator 2.30.10//
CALSCALE:GREGORIAN
METHOD:PUBLISH
UID:3382586b-8ff2-4d3b-8ad5-55cc32193a9f
X-WR-CALDESC:
X-WR-RELCALID:9c59ca2ea48c6c56c66124319454c624
X-WR-TIMEZONE:America/Chicago
BEGIN:VTIMEZONE
TZID:America/Chicago
BEGIN:STANDARD
TZNAME:CST
DTSTART:20301103T020000
TZOFFSETFROM:-0500
TZOFFSETTO:-0600
RDATE:20311102T020000
RDATE:20321107T020000
END:STANDARD
BEGIN:DAYLIGHT
TZNAME:CDT
DTSTART:20310309T020000
TZOFFSETFROM:-0600
TZOFFSETTO:-0500
RDATE:20320314T020000
RDATE:20330313T020000
END:DAYLIGHT
END:VTIMEZONE
BEGIN:VEVENT
UID:12e3488c-54d7-409c-a04c-b6565f2cb312
DTSTAMP:20260420T084624Z
DESCRIPTION:
DTSTART;TZID=America/Chicago:20310930T130000
DTEND;TZID=America/Chicago:20310930T140000
LOCATION:202 Henry O Flipper\, San Angelo\, TX 76903 US
SUMMARY:WIOA Youth Orientation
END:VEVENT
END:VCALENDAR
