BEGIN:VCALENDAR
VERSION:2.0
PRODID:-//cvworkforce.org//NONSGML kigkonsult.se iCalcreator 2.30.10//
CALSCALE:GREGORIAN
METHOD:PUBLISH
UID:fc8c2b88-ac61-47d6-89cd-a43509dc0649
X-WR-CALDESC:
X-WR-RELCALID:bd3b057fff6a5596d334e67b7f1ea7e8
X-WR-TIMEZONE:America/Chicago
BEGIN:VTIMEZONE
TZID:America/Chicago
BEGIN:STANDARD
TZNAME:CST
DTSTART:20301103T020000
TZOFFSETFROM:-0500
TZOFFSETTO:-0600
RDATE:20311102T020000
RDATE:20321107T020000
END:STANDARD
BEGIN:DAYLIGHT
TZNAME:CDT
DTSTART:20310309T020000
TZOFFSETFROM:-0600
TZOFFSETTO:-0500
RDATE:20320314T020000
RDATE:20330313T020000
END:DAYLIGHT
END:VTIMEZONE
BEGIN:VEVENT
UID:8f082880-3e4a-4e95-938d-342ed0f0a759
DTSTAMP:20260420T084851Z
DESCRIPTION:
DTSTART;TZID=America/Chicago:20310926T140000
DTEND;TZID=America/Chicago:20310926T150000
LOCATION:202 Henry O Flipper\, San Angelo\, TX 76903 US
SUMMARY:Mock Interviews - by appointment only
END:VEVENT
END:VCALENDAR
