BEGIN:VCALENDAR
VERSION:2.0
PRODID:-//cvworkforce.org//NONSGML kigkonsult.se iCalcreator 2.30.10//
CALSCALE:GREGORIAN
METHOD:PUBLISH
UID:2ac6e70c-0329-428d-92c9-0900d0c6e92e
X-WR-CALDESC:
X-WR-RELCALID:289dc2f89e77f598fb2096e2fdd8d1f9
X-WR-TIMEZONE:America/Chicago
BEGIN:VTIMEZONE
TZID:America/Chicago
BEGIN:STANDARD
TZNAME:CST
DTSTART:20301103T020000
TZOFFSETFROM:-0500
TZOFFSETTO:-0600
RDATE:20311102T020000
RDATE:20321107T020000
END:STANDARD
BEGIN:DAYLIGHT
TZNAME:CDT
DTSTART:20310309T020000
TZOFFSETFROM:-0600
TZOFFSETTO:-0500
RDATE:20320314T020000
RDATE:20330313T020000
END:DAYLIGHT
END:VTIMEZONE
BEGIN:VEVENT
UID:90dfeb18-1fb1-4c53-a1a9-c98d665bdf92
DTSTAMP:20260420T090908Z
DESCRIPTION:
DTSTART;TZID=America/Chicago:20310926T093000
DTEND;TZID=America/Chicago:20310926T103000
LOCATION:202 Henry O Flipper\, San Angelo\, TX 76903 US
SUMMARY:WIOA Orientation
END:VEVENT
END:VCALENDAR
