BEGIN:VCALENDAR
VERSION:2.0
PRODID:-//cvworkforce.org//NONSGML kigkonsult.se iCalcreator 2.30.10//
CALSCALE:GREGORIAN
METHOD:PUBLISH
UID:94d22313-0969-405f-8201-67f01bad49b7
X-WR-CALDESC:
X-WR-RELCALID:08b71f21770d8b3e1f65ca41fab3529f
X-WR-TIMEZONE:America/Chicago
BEGIN:VTIMEZONE
TZID:America/Chicago
BEGIN:STANDARD
TZNAME:CST
DTSTART:20301103T020000
TZOFFSETFROM:-0500
TZOFFSETTO:-0600
RDATE:20311102T020000
RDATE:20321107T020000
END:STANDARD
BEGIN:DAYLIGHT
TZNAME:CDT
DTSTART:20310309T020000
TZOFFSETFROM:-0600
TZOFFSETTO:-0500
RDATE:20320314T020000
RDATE:20330313T020000
END:DAYLIGHT
END:VTIMEZONE
BEGIN:VEVENT
UID:c1e5651c-b6d0-4bea-90d7-cd93c0c8d92e
DTSTAMP:20260420T091138Z
DESCRIPTION:
DTSTART;TZID=America/Chicago:20310925T120000
DTEND;TZID=America/Chicago:20310925T130000
LOCATION:202 Henry O Flipper\, San Angelo\, TX 76903 US
SUMMARY:Mock Interviews - by appointment only
END:VEVENT
END:VCALENDAR
