BEGIN:VCALENDAR
VERSION:2.0
PRODID:-//cvworkforce.org//NONSGML kigkonsult.se iCalcreator 2.30.10//
CALSCALE:GREGORIAN
METHOD:PUBLISH
UID:6d7846c2-94ce-48ed-b21c-682cfd8cb311
X-WR-CALDESC:
X-WR-RELCALID:45905a8c008c8b1dee517e285b43df1e
X-WR-TIMEZONE:America/Chicago
BEGIN:VTIMEZONE
TZID:America/Chicago
BEGIN:STANDARD
TZNAME:CST
DTSTART:20301103T020000
TZOFFSETFROM:-0500
TZOFFSETTO:-0600
RDATE:20311102T020000
RDATE:20321107T020000
END:STANDARD
BEGIN:DAYLIGHT
TZNAME:CDT
DTSTART:20310309T020000
TZOFFSETFROM:-0600
TZOFFSETTO:-0500
RDATE:20320314T020000
RDATE:20330313T020000
END:DAYLIGHT
END:VTIMEZONE
BEGIN:VEVENT
UID:4aa22320-c219-4dfb-a2ad-78ac2d25be40
DTSTAMP:20260420T091344Z
DESCRIPTION:
DTSTART;TZID=America/Chicago:20310924T090000
DTEND;TZID=America/Chicago:20310924T100000
LOCATION:202 Henry O Flipper\, San Angelo\, TX 76903 US
SUMMARY:RESEA Orientation
END:VEVENT
END:VCALENDAR
