BEGIN:VCALENDAR
VERSION:2.0
PRODID:-//cvworkforce.org//NONSGML kigkonsult.se iCalcreator 2.30.10//
CALSCALE:GREGORIAN
METHOD:PUBLISH
UID:ed1f44f7-9bf2-4f15-96ff-5011a64ec210
X-WR-CALDESC:
X-WR-RELCALID:ec52d153f5c71fffaff0e4c65e185d19
X-WR-TIMEZONE:America/Chicago
BEGIN:VTIMEZONE
TZID:America/Chicago
BEGIN:STANDARD
TZNAME:CST
DTSTART:20301103T020000
TZOFFSETFROM:-0500
TZOFFSETTO:-0600
RDATE:20311102T020000
RDATE:20321107T020000
END:STANDARD
BEGIN:DAYLIGHT
TZNAME:CDT
DTSTART:20310309T020000
TZOFFSETFROM:-0600
TZOFFSETTO:-0500
RDATE:20320314T020000
RDATE:20330313T020000
END:DAYLIGHT
END:VTIMEZONE
BEGIN:VEVENT
UID:19ea7f44-a1c9-4e66-adad-467385a6fbe2
DTSTAMP:20260420T130318Z
DESCRIPTION:
DTSTART;TZID=America/Chicago:20310919T120000
DTEND;TZID=America/Chicago:20310919T133000
LOCATION:202 Henry O Flipper\, San Angelo\, TX 76903 US
SUMMARY:New Customer Orientation
END:VEVENT
END:VCALENDAR
