BEGIN:VCALENDAR
VERSION:2.0
PRODID:-//cvworkforce.org//NONSGML kigkonsult.se iCalcreator 2.30.10//
CALSCALE:GREGORIAN
METHOD:PUBLISH
UID:88102e60-a1c5-4940-b170-2af79e365dc8
X-WR-CALDESC:
X-WR-RELCALID:f39424152d60577e02c384e7cd0060cb
X-WR-TIMEZONE:America/Chicago
BEGIN:VTIMEZONE
TZID:America/Chicago
BEGIN:STANDARD
TZNAME:CST
DTSTART:20301103T020000
TZOFFSETFROM:-0500
TZOFFSETTO:-0600
RDATE:20311102T020000
RDATE:20321107T020000
END:STANDARD
BEGIN:DAYLIGHT
TZNAME:CDT
DTSTART:20310309T020000
TZOFFSETFROM:-0600
TZOFFSETTO:-0500
RDATE:20320314T020000
RDATE:20330313T020000
END:DAYLIGHT
END:VTIMEZONE
BEGIN:VEVENT
UID:46a5f4e8-e6d2-4c90-a92b-879df194bfc5
DTSTAMP:20260420T090653Z
DESCRIPTION:
DTSTART;TZID=America/Chicago:20310918T120000
DTEND;TZID=America/Chicago:20310918T130000
LOCATION:202 Henry O Flipper\, San Angelo\, TX 76903 US
SUMMARY:Mock Interviews - by appointment only
END:VEVENT
END:VCALENDAR
