BEGIN:VCALENDAR
VERSION:2.0
PRODID:-//cvworkforce.org//NONSGML kigkonsult.se iCalcreator 2.30.10//
CALSCALE:GREGORIAN
METHOD:PUBLISH
UID:d3a6948d-e2e0-43ba-b8d2-204eefdfd0bd
X-WR-CALDESC:
X-WR-RELCALID:532dbf70ffd282c7ec5f4c5399bfcc76
X-WR-TIMEZONE:America/Chicago
BEGIN:VTIMEZONE
TZID:America/Chicago
BEGIN:STANDARD
TZNAME:CST
DTSTART:20301103T020000
TZOFFSETFROM:-0500
TZOFFSETTO:-0600
RDATE:20311102T020000
RDATE:20321107T020000
END:STANDARD
BEGIN:DAYLIGHT
TZNAME:CDT
DTSTART:20310309T020000
TZOFFSETFROM:-0600
TZOFFSETTO:-0500
RDATE:20320314T020000
RDATE:20330313T020000
END:DAYLIGHT
END:VTIMEZONE
BEGIN:VEVENT
UID:5979e1da-0768-40ce-a891-580381852ec3
DTSTAMP:20260420T095625Z
DESCRIPTION:
DTSTART;TZID=America/Chicago:20310917T090000
DTEND;TZID=America/Chicago:20310917T100000
LOCATION:202 Henry O Flipper\, San Angelo\, TX 76903 US
SUMMARY:RESEA Orientation
END:VEVENT
END:VCALENDAR
