BEGIN:VCALENDAR
VERSION:2.0
PRODID:-//cvworkforce.org//NONSGML kigkonsult.se iCalcreator 2.30.10//
CALSCALE:GREGORIAN
METHOD:PUBLISH
UID:2f6e4453-b7ae-41d5-b655-b0cd4d70592b
X-WR-CALDESC:
X-WR-RELCALID:5291d2bd761fe2b0732dd51fec39732c
X-WR-TIMEZONE:America/Chicago
BEGIN:VTIMEZONE
TZID:America/Chicago
BEGIN:STANDARD
TZNAME:CST
DTSTART:20301103T020000
TZOFFSETFROM:-0500
TZOFFSETTO:-0600
RDATE:20311102T020000
RDATE:20321107T020000
END:STANDARD
BEGIN:DAYLIGHT
TZNAME:CDT
DTSTART:20310309T020000
TZOFFSETFROM:-0600
TZOFFSETTO:-0500
RDATE:20320314T020000
RDATE:20330313T020000
END:DAYLIGHT
END:VTIMEZONE
BEGIN:VEVENT
UID:9898a740-bf4e-4cb2-bfa6-32f129de3632
DTSTAMP:20260420T090904Z
DESCRIPTION:
DTSTART;TZID=America/Chicago:20310916T140000
DTEND;TZID=America/Chicago:20310916T153000
LOCATION:202 Henry O Flipper\, San Angelo\, TX 76903 US
SUMMARY:Money Skills
END:VEVENT
END:VCALENDAR
