BEGIN:VCALENDAR
VERSION:2.0
PRODID:-//cvworkforce.org//NONSGML kigkonsult.se iCalcreator 2.30.10//
CALSCALE:GREGORIAN
METHOD:PUBLISH
UID:521d15ba-838f-485b-9c3b-b2fe54fb8c53
X-WR-CALDESC:
X-WR-RELCALID:f7d7d7571e125d8c4a615f4a3d3964d8
X-WR-TIMEZONE:America/Chicago
BEGIN:VTIMEZONE
TZID:America/Chicago
BEGIN:STANDARD
TZNAME:CST
DTSTART:20301103T020000
TZOFFSETFROM:-0500
TZOFFSETTO:-0600
RDATE:20311102T020000
RDATE:20321107T020000
END:STANDARD
BEGIN:DAYLIGHT
TZNAME:CDT
DTSTART:20310309T020000
TZOFFSETFROM:-0600
TZOFFSETTO:-0500
RDATE:20320314T020000
RDATE:20330313T020000
END:DAYLIGHT
END:VTIMEZONE
BEGIN:VEVENT
UID:68c26708-970a-4a44-ad01-15cb016b0e81
DTSTAMP:20260420T091457Z
DESCRIPTION:
DTSTART;TZID=America/Chicago:20310915T090000
DTEND;TZID=America/Chicago:20310915T100000
LOCATION:202 Henry O Flipper\, San Angelo\, TX 76903 US
SUMMARY:RESEA Orientation
END:VEVENT
END:VCALENDAR
