BEGIN:VCALENDAR
VERSION:2.0
PRODID:-//cvworkforce.org//NONSGML kigkonsult.se iCalcreator 2.30.10//
CALSCALE:GREGORIAN
METHOD:PUBLISH
UID:41601273-7a06-443f-a6e4-7861f69330ae
X-WR-CALDESC:
X-WR-RELCALID:8d67a49857e3699d026ee4cf113595df
X-WR-TIMEZONE:America/Chicago
BEGIN:VTIMEZONE
TZID:America/Chicago
BEGIN:STANDARD
TZNAME:CST
DTSTART:20301103T020000
TZOFFSETFROM:-0500
TZOFFSETTO:-0600
RDATE:20311102T020000
RDATE:20321107T020000
END:STANDARD
BEGIN:DAYLIGHT
TZNAME:CDT
DTSTART:20310309T020000
TZOFFSETFROM:-0600
TZOFFSETTO:-0500
RDATE:20320314T020000
RDATE:20330313T020000
END:DAYLIGHT
END:VTIMEZONE
BEGIN:VEVENT
UID:9ae37fe9-3a65-4772-a9af-7ea2742f2c3b
DTSTAMP:20260420T090615Z
DESCRIPTION:
DTSTART;TZID=America/Chicago:20310912T140000
DTEND;TZID=America/Chicago:20310912T150000
LOCATION:202 Henry O Flipper\, San Angelo\, TX 76903 US
SUMMARY:Mock Interviews - by appointment only
END:VEVENT
END:VCALENDAR
