BEGIN:VCALENDAR
VERSION:2.0
PRODID:-//cvworkforce.org//NONSGML kigkonsult.se iCalcreator 2.30.10//
CALSCALE:GREGORIAN
METHOD:PUBLISH
UID:977c0eab-5d1d-4ebb-a3e4-a228c2198b21
X-WR-CALDESC:
X-WR-RELCALID:cf61e3dc9045a8076f9a6485f1a0fd70
X-WR-TIMEZONE:America/Chicago
BEGIN:VTIMEZONE
TZID:America/Chicago
BEGIN:STANDARD
TZNAME:CST
DTSTART:20301103T020000
TZOFFSETFROM:-0500
TZOFFSETTO:-0600
RDATE:20311102T020000
RDATE:20321107T020000
END:STANDARD
BEGIN:DAYLIGHT
TZNAME:CDT
DTSTART:20310309T020000
TZOFFSETFROM:-0600
TZOFFSETTO:-0500
RDATE:20320314T020000
RDATE:20330313T020000
END:DAYLIGHT
END:VTIMEZONE
BEGIN:VEVENT
UID:7d9f8568-c9a2-4379-97e3-db0c56f6f310
DTSTAMP:20260420T103415Z
DESCRIPTION:
DTSTART;TZID=America/Chicago:20310912T120000
DTEND;TZID=America/Chicago:20310912T133000
LOCATION:202 Henry O Flipper\, San Angelo\, TX 76903 US
SUMMARY:New Customer Orientation
END:VEVENT
END:VCALENDAR
