BEGIN:VCALENDAR
VERSION:2.0
PRODID:-//cvworkforce.org//NONSGML kigkonsult.se iCalcreator 2.30.10//
CALSCALE:GREGORIAN
METHOD:PUBLISH
UID:84ef197c-5a14-4c70-a9bf-25c8d184d575
X-WR-CALDESC:
X-WR-RELCALID:9c9e72a08099f64b3a3746896d71ca06
X-WR-TIMEZONE:America/Chicago
BEGIN:VTIMEZONE
TZID:America/Chicago
BEGIN:STANDARD
TZNAME:CST
DTSTART:20301103T020000
TZOFFSETFROM:-0500
TZOFFSETTO:-0600
RDATE:20311102T020000
RDATE:20321107T020000
END:STANDARD
BEGIN:DAYLIGHT
TZNAME:CDT
DTSTART:20310309T020000
TZOFFSETFROM:-0600
TZOFFSETTO:-0500
RDATE:20320314T020000
END:DAYLIGHT
END:VTIMEZONE
BEGIN:VEVENT
UID:c91e90f4-e725-4b8e-99d6-15c2a24a00ad
DTSTAMP:20260420T084624Z
DESCRIPTION:
DTSTART;TZID=America/Chicago:20310905T093000
DTEND;TZID=America/Chicago:20310905T103000
LOCATION:202 Henry O Flipper\, San Angelo\, TX 76903 US
SUMMARY:WIOA Orientation
END:VEVENT
END:VCALENDAR
