BEGIN:VCALENDAR
VERSION:2.0
PRODID:-//cvworkforce.org//NONSGML kigkonsult.se iCalcreator 2.30.10//
CALSCALE:GREGORIAN
METHOD:PUBLISH
UID:90b4b19d-50b5-4ead-9450-79d57224b7ed
X-WR-CALDESC:
X-WR-RELCALID:f2ad67a573d78a39763f4cd7c34ae887
X-WR-TIMEZONE:America/Chicago
BEGIN:VTIMEZONE
TZID:America/Chicago
BEGIN:STANDARD
TZNAME:CST
DTSTART:20301103T020000
TZOFFSETFROM:-0500
TZOFFSETTO:-0600
RDATE:20311102T020000
RDATE:20321107T020000
END:STANDARD
BEGIN:DAYLIGHT
TZNAME:CDT
DTSTART:20310309T020000
TZOFFSETFROM:-0600
TZOFFSETTO:-0500
RDATE:20320314T020000
END:DAYLIGHT
END:VTIMEZONE
BEGIN:VEVENT
UID:3ed6d226-5286-4c10-99fc-1653f08d3f35
DTSTAMP:20260420T090831Z
DESCRIPTION:
DTSTART;TZID=America/Chicago:20310903T100000
DTEND;TZID=America/Chicago:20310903T120000
LOCATION:202 Henry O Flipper\, San Angelo\, TX 76903 US
SUMMARY:Resume Writing
END:VEVENT
END:VCALENDAR
