BEGIN:VCALENDAR
VERSION:2.0
PRODID:-//cvworkforce.org//NONSGML kigkonsult.se iCalcreator 2.30.10//
CALSCALE:GREGORIAN
METHOD:PUBLISH
UID:eb82f8f2-a5bd-4334-884e-d8a65b71a39d
X-WR-CALDESC:
X-WR-RELCALID:2eb95b1dc98ad9f68c0d1d39dfea4453
X-WR-TIMEZONE:America/Chicago
BEGIN:VTIMEZONE
TZID:America/Chicago
BEGIN:STANDARD
TZNAME:CST
DTSTART:20301103T020000
TZOFFSETFROM:-0500
TZOFFSETTO:-0600
RDATE:20311102T020000
RDATE:20321107T020000
END:STANDARD
BEGIN:DAYLIGHT
TZNAME:CDT
DTSTART:20310309T020000
TZOFFSETFROM:-0600
TZOFFSETTO:-0500
RDATE:20320314T020000
END:DAYLIGHT
END:VTIMEZONE
BEGIN:VEVENT
UID:cf93da6b-62e8-45a2-82ae-27b6ab3aa141
DTSTAMP:20260420T091225Z
DESCRIPTION:
DTSTART;TZID=America/Chicago:20310903T090000
DTEND;TZID=America/Chicago:20310903T100000
LOCATION:202 Henry O Flipper\, San Angelo\, TX 76903 US
SUMMARY:RESEA Orientation
END:VEVENT
END:VCALENDAR
