BEGIN:VCALENDAR
VERSION:2.0
PRODID:-//cvworkforce.org//NONSGML kigkonsult.se iCalcreator 2.30.10//
CALSCALE:GREGORIAN
METHOD:PUBLISH
UID:ef62e923-2f9b-4fb4-ae15-afbb0aac8fd5
X-WR-CALDESC:
X-WR-RELCALID:239ef1d3b7d28316ac2171a27da34605
X-WR-TIMEZONE:America/Chicago
BEGIN:VTIMEZONE
TZID:America/Chicago
BEGIN:STANDARD
TZNAME:CST
DTSTART:20301103T020000
TZOFFSETFROM:-0500
TZOFFSETTO:-0600
RDATE:20311102T020000
RDATE:20321107T020000
END:STANDARD
BEGIN:DAYLIGHT
TZNAME:CDT
DTSTART:20310309T020000
TZOFFSETFROM:-0600
TZOFFSETTO:-0500
RDATE:20320314T020000
END:DAYLIGHT
END:VTIMEZONE
BEGIN:VEVENT
UID:499523c5-3e9b-4e54-a610-213d7da72c40
DTSTAMP:20260420T091541Z
DESCRIPTION:
DTSTART;TZID=America/Chicago:20310819T140000
DTEND;TZID=America/Chicago:20310819T153000
LOCATION:202 Henry O Flipper\, San Angelo\, TX 76903 US
SUMMARY:Money Skills
END:VEVENT
END:VCALENDAR
