BEGIN:VCALENDAR
VERSION:2.0
PRODID:-//cvworkforce.org//NONSGML kigkonsult.se iCalcreator 2.30.10//
CALSCALE:GREGORIAN
METHOD:PUBLISH
UID:43a7f680-041b-45c3-a840-cc4887dc6d56
X-WR-CALDESC:
X-WR-RELCALID:cda0a7a1257c56bd4b38ec7717e05aab
X-WR-TIMEZONE:America/Chicago
BEGIN:VTIMEZONE
TZID:America/Chicago
BEGIN:STANDARD
TZNAME:CST
DTSTART:20301103T020000
TZOFFSETFROM:-0500
TZOFFSETTO:-0600
RDATE:20311102T020000
RDATE:20321107T020000
END:STANDARD
BEGIN:DAYLIGHT
TZNAME:CDT
DTSTART:20310309T020000
TZOFFSETFROM:-0600
TZOFFSETTO:-0500
RDATE:20320314T020000
END:DAYLIGHT
END:VTIMEZONE
BEGIN:VEVENT
UID:032b3837-df49-479b-876e-ef92f7fa6f63
DTSTAMP:20260420T085648Z
DESCRIPTION:
DTSTART;TZID=America/Chicago:20310812T140000
DTEND;TZID=America/Chicago:20310812T153000
LOCATION:202 Henry O Flipper\, San Angelo\, TX 76903 US
SUMMARY:Money Skills
END:VEVENT
END:VCALENDAR
